BEGIN:VCALENDAR
VERSION:2.0
PRODID:-//hacksw/handcal//NONSGML v1.0//EN
CALSCALE:GREGORIAN
BEGIN:VEVENT
LOCATION:Online
DESCRIPTION:MFC #DigLitBootcamp: Social media effective play (Webinar 3)
SUMMARY:MFC #DigLitBootcamp: Social media effective play (...
DTSTART:20200616T090000Z
DTSTAMP:20260426T013651Z
UID:69ed8853af18b
END:VEVENT
END:VCALENDAR